BEGIN:VCALENDAR
VERSION:2.0
PRODID:-//La Pagina - ECPv5.5.0.1//NONSGML v1.0//EN
CALSCALE:GREGORIAN
METHOD:PUBLISH
X-WR-CALNAME:La Pagina
X-ORIGINAL-URL:https://lapagina.ch
X-WR-CALDESC:Events for La Pagina
BEGIN:VTIMEZONE
TZID:Europe/Helsinki
BEGIN:DAYLIGHT
TZOFFSETFROM:+0200
TZOFFSETTO:+0300
TZNAME:EEST
DTSTART:20190331T010000
END:DAYLIGHT
BEGIN:STANDARD
TZOFFSETFROM:+0300
TZOFFSETTO:+0200
TZNAME:EET
DTSTART:20191027T010000
END:STANDARD
END:VTIMEZONE
BEGIN:VEVENT
DTSTART;TZID=Europe/Helsinki:20190910T200000
DTEND;TZID=Europe/Helsinki:20190910T230000
DTSTAMP:20260419T214155
CREATED:20190905T060142Z
LAST-MODIFIED:20190905T060142Z
UID:55118-1568145600-1568156400@lapagina.ch
SUMMARY:Riunione plenaria del Com.It.Es. di Zurigo
DESCRIPTION:L’O.d.g. prevede i seguenti punti \n\napprovazione dell’O.d.G.;\napprovazione del verbale del 27.06.2019;\nparere del Comites sulla richiesta di contributi integrativi per particolari iniziative;\nvarie ed eventuali.
URL:https://lapagina.ch/eventi/riunione-plenaria-del-com-it-es-di-zurigo/
LOCATION:Sede del Comites di Zurigo\, Sihlquai 253\, Zürich\, Svizzera
CATEGORIES:Appuntamenti / Associazioni
ORGANIZER;CN="Comites%20Zurigo":MAILTO:info@comiteszurigo.ch
END:VEVENT
END:VCALENDAR