BEGIN:VCALENDAR
VERSION:2.0
PRODID:-//La Pagina - ECPv5.5.0.1//NONSGML v1.0//EN
CALSCALE:GREGORIAN
METHOD:PUBLISH
X-WR-CALNAME:La Pagina
X-ORIGINAL-URL:https://lapagina.ch
X-WR-CALDESC:Events for La Pagina
BEGIN:VTIMEZONE
TZID:Europe/Helsinki
BEGIN:DAYLIGHT
TZOFFSETFROM:+0200
TZOFFSETTO:+0300
TZNAME:EEST
DTSTART:20190331T010000
END:DAYLIGHT
BEGIN:STANDARD
TZOFFSETFROM:+0300
TZOFFSETTO:+0200
TZNAME:EET
DTSTART:20191027T010000
END:STANDARD
END:VTIMEZONE
BEGIN:VEVENT
DTSTART;TZID=Europe/Helsinki:20190406T110000
DTEND;TZID=Europe/Helsinki:20190407T220000
DTSTAMP:20260425T124552
CREATED:20190321T110112Z
LAST-MODIFIED:20190321T110112Z
UID:52151-1554548400-1554674400@lapagina.ch
SUMMARY:Sorrisi & Sapori/Expoapulia/Apulian Streetfood Festival
DESCRIPTION:organizza: Agenzia futura\, Ass. pugliese di Winterthur e Myapulia.ch \ndove: Reithallen Winterthur \nEntrata gratis per Expo e sagra \nPrenotazione obbligatoria per Sorrisi & Sapori del Salento \nIngresso: Adulti Fr. 25.- / 7-12 anni Fr. 15.- / 0-6 anni Gratis \nInfo e prenotazioni: 052 243 00 01
URL:https://lapagina.ch/eventi/sorrisi-sapori-expoapulia-apulian-streetfood-festival/
LOCATION:Reithallen Winterthur\, Zeughausstr. 67\, Winterthur\, Svizzera
CATEGORIES:Appuntamenti / Associazioni
END:VEVENT
END:VCALENDAR