BEGIN:VCALENDAR
VERSION:2.0
PRODID:-//La Pagina - ECPv5.5.0.1//NONSGML v1.0//EN
CALSCALE:GREGORIAN
METHOD:PUBLISH
X-WR-CALNAME:La Pagina
X-ORIGINAL-URL:https://lapagina.ch
X-WR-CALDESC:Events for La Pagina
BEGIN:VTIMEZONE
TZID:Europe/Zurich
BEGIN:DAYLIGHT
TZOFFSETFROM:+0100
TZOFFSETTO:+0200
TZNAME:CEST
DTSTART:20240331T010000
END:DAYLIGHT
BEGIN:STANDARD
TZOFFSETFROM:+0200
TZOFFSETTO:+0100
TZNAME:CET
DTSTART:20241027T010000
END:STANDARD
END:VTIMEZONE
BEGIN:VEVENT
DTSTART;TZID=Europe/Zurich:20240516T190000
DTEND;TZID=Europe/Zurich:20240516T190000
DTSTAMP:20260422T011139
CREATED:20240426T065310Z
LAST-MODIFIED:20240426T065310Z
UID:65705-1715886000-1715886000@lapagina.ch
SUMMARY:Spettacolo ELLIS ISLAND
DESCRIPTION:L’Istituto Italiano di Cultura di Zurigo \norganizza \nELLIS ISLAND\nSpettacolo dal titolo Ellis Island di e con Maurizio Igor Meta \nEllis Island è il Viaggio della Vita. \nIl 19 novembre 2015 Maurizio Igor Meta si è imbarcato in una nave cargo dal porto di Napoli per ripercorrere i passi del bisnonno che\, nel novembre del 1890\, decise di partire per gli Stati Uniti\, dove lavorò con pala e piccone per la Pennsylvania Railroad. Partendo dalle sensazioni avute nel ripercorrere il suo cammino e combinandole con le ricerche storiche sulla vita degli immigrati italiani\, ha costruito una drammaturgia che evoca il momento della partenza\, il viaggio in nave\, l’arrivo ad Ellis Island\, la fatica sulle rotaie\, fino al ritorno all’Origine\, in un Viaggio epico e poetico che usa\, in particolare\, gli antichi e “semplici” strumenti della voce e del corpo\, coniugando la dinamica del movimento con la musicalità della parola. \nGuarda il trailer \nTheater Stok\nMezzi pubblici: tram no. 3 dalla stazione centrale di Zurigo (direzione: Klusplatz) fino alla fermata “Neumarkt” \nIngresso libero – prenota ora chiamando: 044 202 48 46. \nPrenota online qui (1 persona= 1 indirizzo e-mail valido\, lo stesso indirizzo non può essere usato più volte) o chiama qui.
URL:https://lapagina.ch/eventi/spettacolo-ellis-island/
LOCATION:Theater Stok\, Hirschengraben 42\, Zurigo\, Switzerland
END:VEVENT
END:VCALENDAR