BEGIN:VCALENDAR
VERSION:2.0
PRODID:-//La Pagina - ECPv5.5.0.1//NONSGML v1.0//EN
CALSCALE:GREGORIAN
METHOD:PUBLISH
X-WR-CALNAME:La Pagina
X-ORIGINAL-URL:https://lapagina.ch
X-WR-CALDESC:Events for La Pagina
BEGIN:VTIMEZONE
TZID:Europe/Zurich
BEGIN:DAYLIGHT
TZOFFSETFROM:+0100
TZOFFSETTO:+0200
TZNAME:CEST
DTSTART:20240331T010000
END:DAYLIGHT
BEGIN:STANDARD
TZOFFSETFROM:+0200
TZOFFSETTO:+0100
TZNAME:CET
DTSTART:20241027T010000
END:STANDARD
END:VTIMEZONE
BEGIN:VEVENT
DTSTART;TZID=Europe/Zurich:20240404T200000
DTEND;TZID=Europe/Zurich:20240413T200000
DTSTAMP:20260422T201257
CREATED:20240227T140523Z
LAST-MODIFIED:20240227T140523Z
UID:65414-1712260800-1713038400@lapagina.ch
SUMMARY:Spettacolo "Sabato\, Domenica e Lunedì"
DESCRIPTION:La première dello spettacolo “Sabato\, Domenica e Lunedì” de I Beccafichi si avvicina! \nLasciatevi trascinare dalla vivace atmosfera della Napoli borghese all’alba degli anni Sessanta. Siete tutti invitati a casa Priore dove\, tra i vapori del ragù e la tavola imbandita per il pranzo domenicale\, incomprensioni e tensioni taciute esploderanno fino a minare l’ordine familiare di un apparentemente tranquillo quadretto domestico. Tre generazioni a confronto\, raccontate con l’ironia\, la profondità e le mille sfaccettature  proprie dell’opera di Eduardo De Filippo. \n  \nQuando: \n4-5-6 e 11-12-13 Aprile 2024 ore 20.00 \n7 Aprile 2024 ore 18.00 \n  \nBiglietti: Intero 25 CHF\, studenti 15 CHF\, under 12 gratuito \n  \nInfo e Prenotazioni: Questo il link per le prenotazioni\, per info scrivere a info@ibeccafichi.ch \n  \nCome raggiungerci: \nIn auto: parcheggio disponibile presso “Parkhaus Universität Irchel”. \nIn Tram: Tram 9/10 (fermata “Universität Irchel”) o Tram 7/9/10/14\, Bus 69/72 (fermata “Milchbuck”). Seguire quindi le indicazione fino all’Università.  \n\nBar: durante le serate verrà allestito un piccolo bar con bibite e snack. \n  \nPotete trovare ulteriori informazioni sul sito www.ibeccafichi.ch
URL:https://lapagina.ch/eventi/spettacolo-sabato-domenica-e-lunedi/
LOCATION:Theatersaal Uni Irchel Zurigo\, Winterghurerstrasse 190\, Zurigo\, Switzerland
END:VEVENT
END:VCALENDAR