BEGIN:VCALENDAR
VERSION:2.0
PRODID:-//La Pagina - ECPv5.5.0.1//NONSGML v1.0//EN
CALSCALE:GREGORIAN
METHOD:PUBLISH
X-WR-CALNAME:La Pagina
X-ORIGINAL-URL:https://lapagina.ch
X-WR-CALDESC:Events for La Pagina
BEGIN:VTIMEZONE
TZID:Europe/Zurich
BEGIN:DAYLIGHT
TZOFFSETFROM:+0100
TZOFFSETTO:+0200
TZNAME:CEST
DTSTART:20230326T010000
END:DAYLIGHT
BEGIN:STANDARD
TZOFFSETFROM:+0200
TZOFFSETTO:+0100
TZNAME:CET
DTSTART:20231029T010000
END:STANDARD
END:VTIMEZONE
BEGIN:VEVENT
DTSTART;TZID=Europe/Zurich:20231217T160000
DTEND;TZID=Europe/Zurich:20231217T170000
DTSTAMP:20260424T032749
CREATED:20231211T133530Z
LAST-MODIFIED:20231211T133530Z
UID:65156-1702828800-1702832400@lapagina.ch
SUMMARY:Tradizionale Concerto di Natale
DESCRIPTION:L’Associazione Culturale Sarda “Efisio Racis” di Zurigo\,\ncon la collaborazione della Federazione dei Circoli Sardi in Svizzera\ne con il patrocinio e il contributo della Regione Autonoma della Sardegna \nvi invita al tradizionale \nConcerto di Natale\nRenzo&Jolanda Scanu eseguiranno canti natalizi sardi e musiche popolari religiose \n\n\n\n\nIl circolo sardo di Zurigo è lieto di invitare tutti i suoi soci e gli amici della Sardegna a questo evento che conclude le manifestazioni culturali del 2023. \nIngresso libero \nDopo il concerto il circolo offrirà a tutti i partecipanti\, un rinfresco natalizio con panettone e vino bianco sardo. \nAlte Kirche Wollishofen – Kilchbergstrasse 13 – 8038 Zürich \n(Le possibilità di parcheggio sono limitate\, si consiglia di utilizzare i trasporti pubblici: Tram n° 7 oppure Bus n° 72\, 70\, 66\, 184\, 185 fino alla fermata Morgental”) \nScarica qui il volantino
URL:https://lapagina.ch/eventi/tradizionale-concerto-di-natale/
LOCATION:Alte Kirche Wollishofen\, Kilchbergstrasse 13\, Zürich\, 8038\, Switzerland
END:VEVENT
END:VCALENDAR