BEGIN:VCALENDAR
VERSION:2.0
PRODID:-//La Pagina - ECPv5.5.0.1//NONSGML v1.0//EN
CALSCALE:GREGORIAN
METHOD:PUBLISH
X-WR-CALNAME:La Pagina
X-ORIGINAL-URL:https://lapagina.ch
X-WR-CALDESC:Events for La Pagina
BEGIN:VTIMEZONE
TZID:Europe/Helsinki
BEGIN:DAYLIGHT
TZOFFSETFROM:+0200
TZOFFSETTO:+0300
TZNAME:EEST
DTSTART:20190331T010000
END:DAYLIGHT
BEGIN:STANDARD
TZOFFSETFROM:+0300
TZOFFSETTO:+0200
TZNAME:EET
DTSTART:20191027T010000
END:STANDARD
END:VTIMEZONE
BEGIN:VEVENT
DTSTART;TZID=Europe/Helsinki:20190630T113000
DTEND;TZID=Europe/Helsinki:20190630T220000
DTSTAMP:20260420T070707
CREATED:20190612T100546Z
LAST-MODIFIED:20190612T100546Z
UID:53576-1561894200-1561932000@lapagina.ch
SUMMARY:Tradizionale grigliata friulana
DESCRIPTION:organizza: Fogolâr Furlan Udinese Club Zurigo \ndove: Clubhaus RGL\, Dietikon  \nLa polenta sarà cucinata in loco\, nel grande paiolo di rame posto sul fuoco a legna dal signor Bonadei\, presidente dei Bergamaschi nel mondo di Zurigo.  Oltre alla grigliata vi aspetteranno musica da ballo\, compagnia ed una ricca tombola. Prezzo della grigliata mista Fr. 23.- che comprende costina\, bistecca di collo di maiale\, salsicca\, verdura\, formaggio \nMontasio e polenta. \nVi preghiamo di usare i parcheggi presso la Stadthalle.
URL:https://lapagina.ch/eventi/tradizionale-grigliata-friulana/
LOCATION:Clubhaus RGL Dietikon\, Svizzera
CATEGORIES:Appuntamenti / Associazioni
ORGANIZER;CN="Fogolar%20Furlan%20Udinese%20Club%20Zurigo":MAILTO:g.pupolin@bluewin.ch
END:VEVENT
END:VCALENDAR