BEGIN:VCALENDAR
VERSION:2.0
PRODID:-//La Pagina - ECPv5.5.0.1//NONSGML v1.0//EN
CALSCALE:GREGORIAN
METHOD:PUBLISH
X-WR-CALNAME:La Pagina
X-ORIGINAL-URL:https://lapagina.ch
X-WR-CALDESC:Events for La Pagina
BEGIN:VTIMEZONE
TZID:Europe/Zurich
BEGIN:DAYLIGHT
TZOFFSETFROM:+0100
TZOFFSETTO:+0200
TZNAME:CEST
DTSTART:20230326T010000
END:DAYLIGHT
BEGIN:STANDARD
TZOFFSETFROM:+0200
TZOFFSETTO:+0100
TZNAME:CET
DTSTART:20231029T010000
END:STANDARD
END:VTIMEZONE
BEGIN:VEVENT
DTSTART;TZID=Europe/Zurich:20230331T193000
DTEND;TZID=Europe/Zurich:20230331T193000
DTSTAMP:20260419T192158
CREATED:20230324T074947Z
LAST-MODIFIED:20230324T074947Z
UID:64118-1680291000-1680291000@lapagina.ch
SUMMARY:Un palco all'opera
DESCRIPTION:AVIS Uster organizza \nUn palco all’opera\nGALA LIRICO \nAngela Gandolfo\, Soprano\nJiyoung Seu\, Soprano\nMirko Matarazzo\, Tenore\nHyunsun Kang\, Baritono\nRoberto Barrali\, pianoforte\nAntonio Lubiani\, violino\nLorenzo Tagliazucchi\, violino\nAlessandro Protani\, violoncello\nRoberto Ilacqua\, Viola \nMusiche di:\nG. Verdi\, G. Rossini\, W. A. Mozart\, P. Mascagni\, J. Massenet\, G. Puccini \nEntrata gratis – colletta \nore 18.45 apertura \nScarica qui il programma
URL:https://lapagina.ch/eventi/un-palco-allopera-4/
LOCATION:Stadthofsaal Uster\, Theaterstrasse 1\, Uster\, Svizzera
END:VEVENT
END:VCALENDAR