BEGIN:VCALENDAR
VERSION:2.0
PRODID:-//La Pagina - ECPv5.5.0.1//NONSGML v1.0//EN
CALSCALE:GREGORIAN
METHOD:PUBLISH
X-WR-CALNAME:La Pagina
X-ORIGINAL-URL:https://lapagina.ch
X-WR-CALDESC:Events for La Pagina
BEGIN:VTIMEZONE
TZID:Europe/Zurich
BEGIN:DAYLIGHT
TZOFFSETFROM:+0100
TZOFFSETTO:+0200
TZNAME:CEST
DTSTART:20240331T010000
END:DAYLIGHT
BEGIN:STANDARD
TZOFFSETFROM:+0200
TZOFFSETTO:+0100
TZNAME:CET
DTSTART:20241027T010000
END:STANDARD
END:VTIMEZONE
BEGIN:VEVENT
DTSTART;TZID=Europe/Zurich:20241223T193000
DTEND;TZID=Europe/Zurich:20241223T193000
DTSTAMP:20260420T154259
CREATED:20241210T091822Z
LAST-MODIFIED:20241210T091822Z
UID:66495-1734982200-1734982200@lapagina.ch
SUMMARY:Un Palco all'Opera
DESCRIPTION:“Un Palco all’Opera” \nDALLA LIRICA AL MUSICAL \nLinda Campanella\, Soprano\nDavide Piaggio\, Tenore\nMatteo Peirone\, Baritono\nAndrea Albertini\, Pianoforte\nLivia Hagiu\, Violino \nMusiche di G. Verdi\, G. Rossini\, G. Puccini\, G. Donizetti\, J. Strauss\, L. Cohen \nINGRESSO LIBERO AD OFFERTA \nore 18.45 apertura \nParcheggio Illuster
URL:https://lapagina.ch/eventi/un-palco-allopera-5/
LOCATION:Stadthofsaal Uster\, Theaterstrasse 1\, Uster\, Svizzera
END:VEVENT
END:VCALENDAR