BEGIN:VCALENDAR
VERSION:2.0
PRODID:-//La Pagina - ECPv5.5.0.1//NONSGML v1.0//EN
CALSCALE:GREGORIAN
METHOD:PUBLISH
X-WR-CALNAME:La Pagina
X-ORIGINAL-URL:https://lapagina.ch
X-WR-CALDESC:Events for La Pagina
BEGIN:VTIMEZONE
TZID:Europe/Zurich
BEGIN:DAYLIGHT
TZOFFSETFROM:+0100
TZOFFSETTO:+0200
TZNAME:CEST
DTSTART:20240331T010000
END:DAYLIGHT
BEGIN:STANDARD
TZOFFSETFROM:+0200
TZOFFSETTO:+0100
TZNAME:CET
DTSTART:20241027T010000
END:STANDARD
END:VTIMEZONE
BEGIN:VEVENT
DTSTART;TZID=Europe/Zurich:20240629T143000
DTEND;TZID=Europe/Zurich:20240629T170000
DTSTAMP:20260421T004043
CREATED:20240624T075916Z
LAST-MODIFIED:20240624T075916Z
UID:65969-1719671400-1719680400@lapagina.ch
SUMMARY:Wetzikon: Informazione Corsi di Lingua e Cultura Italiana
DESCRIPTION:Le Colonie di Wetzikon e Dübendorf organizzano \nEvento informativo sui Corsi di Lingua e Cultura Italiana \nCorsi di Lingua e cultura Italiana … perché iscrivere i propri figli?\n\nL’obiettivo principale dei corsi di lingua e cultura nelle circoscrizioni consolari è quello di promuovere la diffusione della lingua e cultura italiana\, ma soprattutto di sviluppare un progressivo plurilinguismo\, attraverso una crescente padronanza dell’italiano scritto e parlato e una conoscenza essenziale della nostra storia civile e culturale. Il plurilinguismo contribuisce in modo determinante al successo lavorativo e professionale nella società svizzera. Le ricerche in ambito linguistico hanno dimostrato che chi possiede valide competenze nella lingua materna è avvantaggiato nell’apprendimento delle altre.\n\nPossono frequentare i corsi anche alunne/i che non conoscono la lingua italiana. Le lezioni prevedono percorsi personalizzati e individualizzati\, “a misura” di ogni alunna/o\, tenendo conto delle loro diverse abilità.\nA tutti gli/le allievi/e dei corsi di lingua e cultura sarà rilasciato un ATTESTATO di FREQUENZA (o giudizio nella scheda di valutazione) in concomitanza alla frequenza della scuola dell’obbligo svizzera. Inoltre\, la frequenza dei corsi di lingua e cultura italiana consente alle studentesse e agli studenti delle classi terminali di sostenere l’esame per ottenere una certificazione linguistica riconosciuta in tutta Europa e di primaria importanza per l’inserimento nel mercato del lavoro. Questa attestazione si può inserire nel Passaporto delle Lingue\, riconosciuto in tutta la Svizzera e permette di accedere alla formazione e alle professioni in cui è richiesto il plurilinguismo. Le scuole e i Dipartimenti Istruzione di diversi Cantoni consigliano la frequenza dell’offerta formativa consolare. \nPARTECIPATE LA CULTURA NON HA PREZZO\n\nScarica qui il volantino
URL:https://lapagina.ch/eventi/wetzikon-informazione-corsi-di-lingua-e-cultura-italiana/
LOCATION:Ristorante Brasserie Krone\, Bahnhofstrasse 163\, Wetzikon\, 8620\, Switzerland
END:VEVENT
END:VCALENDAR