BEGIN:VCALENDAR
VERSION:2.0
PRODID:-//La Pagina - ECPv5.5.0.1//NONSGML v1.0//EN
CALSCALE:GREGORIAN
METHOD:PUBLISH
X-WR-CALNAME:La Pagina
X-ORIGINAL-URL:https://lapagina.ch
X-WR-CALDESC:Events for La Pagina
BEGIN:VTIMEZONE
TZID:Europe/Zurich
BEGIN:DAYLIGHT
TZOFFSETFROM:+0100
TZOFFSETTO:+0200
TZNAME:CEST
DTSTART:20260329T010000
END:DAYLIGHT
BEGIN:STANDARD
TZOFFSETFROM:+0200
TZOFFSETTO:+0100
TZNAME:CET
DTSTART:20261025T010000
END:STANDARD
END:VTIMEZONE
BEGIN:VEVENT
DTSTART;TZID=Europe/Zurich:20260326T190000
DTEND;TZID=Europe/Zurich:20260326T210000
DTSTAMP:20260424T165145
CREATED:20260304T121337Z
LAST-MODIFIED:20260304T121337Z
UID:67409-1774551600-1774558800@lapagina.ch
SUMMARY:Zurigo: Serata informativa sulla scuola dell’obbligo
DESCRIPTION:Il progetto Schulbotschafter:innen dello Schulamt della città di Zurigo e il Kreisschulbehörde Glattal \norganizzano \nSerata informativa sulla scuola dell’obbligo \n \nProgramma: \n\nPanoramica del sistema scolastico della Città di Zurigo\nLezioni\, servizio di custodia e scuola diurna\nPiano di studi\, pagelle\, compiti a casa\nEsigenze particolari\n\nQuesti incontri rappresentano un’importante occasione per comprendere meglio il funzionamento della scuola a Zurigo e per orientarsi consapevolmente nelle scelte formative dei propri figli. \nUlteriori informazioni sono disponibili sul sito della Città di Zurigo: Informazioni sulla scuola in italiano | Stadt Zürich \n\nRicordiamo inoltre che la Città di Zurigo offre un servizio di informazione telefonico dedicato ai genitori di bambini in età scolare\, per fornire spiegazioni chiare e supporto sul sistema scolastico. Siamo raggiungibili per e-mail oppure telefonicamente il mercoledì dalle ore 9.00 alle ore 12.00 al numero 044 413 88 88. \n  \nPer partecipare alle serate informative non è necessaria iscrizione.
URL:https://lapagina.ch/eventi/zurigo-serata-informativa-sulla-scuola-dellobbligo/
LOCATION:Schulanlage Im Birch\, Margrit-Rainer-Strasse 6\, Zürich\, 8050\, Switzerland
END:VEVENT
END:VCALENDAR