BEGIN:VCALENDAR
VERSION:2.0
PRODID:-//La Pagina - ECPv5.5.0.1//NONSGML v1.0//EN
CALSCALE:GREGORIAN
METHOD:PUBLISH
X-WR-CALNAME:La Pagina
X-ORIGINAL-URL:https://lapagina.ch
X-WR-CALDESC:Events for La Pagina
BEGIN:VTIMEZONE
TZID:Europe/Helsinki
BEGIN:DAYLIGHT
TZOFFSETFROM:+0200
TZOFFSETTO:+0300
TZNAME:EEST
DTSTART:20190331T010000
END:DAYLIGHT
BEGIN:STANDARD
TZOFFSETFROM:+0300
TZOFFSETTO:+0200
TZNAME:EET
DTSTART:20191027T010000
END:STANDARD
END:VTIMEZONE
BEGIN:VEVENT
DTSTART;TZID=Europe/Helsinki:20190315T193000
DTEND;TZID=Europe/Helsinki:20190315T233000
DTSTAMP:20260426T054040
CREATED:20190306T103711Z
LAST-MODIFIED:20190306T103711Z
UID:51824-1552678200-1552692600@lapagina.ch
SUMMARY:Dottor Amedeo Fantin specialista in gastroenterologia a Uster
DESCRIPTION:organizza: Il circolo ACLI di Uster \ndove: Salone della Parrocchia Cattolica \n 
URL:https://lapagina.ch/eventi/dottor-amedeo-fantin-specialista-in-gastroenterologia-a-uster-2/
LOCATION:salone della parrocchia cattolica\, Neuwiesenstrasse 17\, Uster\, Svizzera
CATEGORIES:Appuntamenti / Associazioni
END:VEVENT
END:VCALENDAR